BEGIN:VCALENDAR
VERSION:2.0
PRODID:-//Plone.org//NONSGML plone.app.event//EN
X-WR-TIMEZONE:US/Eastern
BEGIN:VEVENT
SUMMARY:Thanksgiving Holiday Hours!
DTSTART;TZID=US/Eastern:20301127T090000
DTEND;TZID=US/Eastern:20301127T130000
DTSTAMP:20260423T103644Z
UID:3b56088304d8450bb451b90d7b820a8c@saas_stack_varnish:6080
CREATED:20260307T013519Z
LAST-MODIFIED:20260307T013626Z
URL:https://www.marlettelibrary.org/news-events/calendar/thanksgiving-holi
 day-hours/2030-11-27
END:VEVENT
BEGIN:VTIMEZONE
TZID:US/Eastern
X-LIC-LOCATION:US/Eastern
BEGIN:STANDARD
DTSTART:20301103T010000
TZNAME:EST
TZOFFSETFROM:-0400
TZOFFSETTO:-0500
END:STANDARD
END:VTIMEZONE
END:VCALENDAR
