BEGIN:VCALENDAR
VERSION:2.0
PRODID:-//Plone.org//NONSGML plone.app.event//EN
X-WR-TIMEZONE:US/Eastern
BEGIN:VEVENT
SUMMARY:StoryTIME
DTSTART;TZID=US/Eastern:20260303T101500
DTEND;TZID=US/Eastern:20260303T110000
DTSTAMP:20260421T142033Z
UID:4994a75bc1eb4f2fa85c3c26428e0d5a@saas_stack_varnish:6080
CREATED:20260306T235407Z
LAST-MODIFIED:20260307T003210Z
URL:https://www.marlettelibrary.org/news-events/calendar/storytime/2026-03
 -03
END:VEVENT
BEGIN:VTIMEZONE
TZID:US/Eastern
X-LIC-LOCATION:US/Eastern
BEGIN:STANDARD
DTSTART:20251102T010000
TZNAME:EST
TZOFFSETFROM:-0400
TZOFFSETTO:-0500
END:STANDARD
END:VTIMEZONE
END:VCALENDAR
