BEGIN:VCALENDAR
VERSION:2.0
PRODID:-//Plone.org//NONSGML plone.app.event//EN
X-WR-TIMEZONE:US/Eastern
BEGIN:VEVENT
SUMMARY:End of Adult Winter Reading Challenge
DTSTART;TZID=US/Eastern:20260305T090000
DTEND;TZID=US/Eastern:20260305T170000
DTSTAMP:20260421T142552Z
UID:4ca98ca2f73944dfaabeca646350b5ec@saas_stack_varnish:6080
CONTACT:https://www.marlettelibrary.org/news-events/adult-winter-reading-c
 hallenge
CREATED:20260307T000147Z
LAST-MODIFIED:20260307T003416Z
URL:https://www.marlettelibrary.org/news-events/calendar/end-of-adult-wint
 er-reading-challenge
END:VEVENT
BEGIN:VTIMEZONE
TZID:US/Eastern
X-LIC-LOCATION:US/Eastern
BEGIN:STANDARD
DTSTART:20251102T010000
TZNAME:EST
TZOFFSETFROM:-0400
TZOFFSETTO:-0500
END:STANDARD
END:VTIMEZONE
END:VCALENDAR
