BEGIN:VCALENDAR
VERSION:2.0
PRODID:-//Plone.org//NONSGML plone.app.event//EN
X-WR-TIMEZONE:US/Eastern
BEGIN:VEVENT
SUMMARY:Closed New Years Eve!
DTSTART;VALUE=DATE:20261231
DTEND;VALUE=DATE:20270101
DTSTAMP:20260423T120749Z
UID:9d90a9b4bdd54d1db571f0cc06b279e4@saas_stack_varnish:6080
RRULE:FREQ=YEARLY;COUNT=7;BYMONTHDAY=31;BYMONTH=12
CREATED:20260307T005826Z
LAST-MODIFIED:20260307T022218Z
URL:https://www.marlettelibrary.org/news-events/calendar/closed-new-years-
 eve
END:VEVENT
END:VCALENDAR
