BEGIN:VCALENDAR
VERSION:2.0
PRODID:-//Plone.org//NONSGML plone.app.event//EN
X-WR-TIMEZONE:US/Eastern
BEGIN:VEVENT
SUMMARY:Closed New Years Eve!
DTSTART;VALUE=DATE:20271231
DTEND;VALUE=DATE:20280101
DTSTAMP:20260423T103849Z
UID:9d90a9b4bdd54d1db571f0cc06b279e4@saas_stack_varnish:6080
CREATED:20260307T005826Z
LAST-MODIFIED:20260307T022218Z
URL:https://www.marlettelibrary.org/news-events/calendar/closed-new-years-
 eve/2027-12-31
END:VEVENT
END:VCALENDAR
