BEGIN:VCALENDAR
VERSION:2.0
PRODID:-//Plone.org//NONSGML plone.app.event//EN
X-WR-TIMEZONE:US/Eastern
BEGIN:VEVENT
SUMMARY:Closed For Thanksgiving!
DTSTART;VALUE=DATE:20311127
DTEND;VALUE=DATE:20311128
DTSTAMP:20260423T103341Z
UID:6e31b643737d4aaeb78659a54451b21b@saas_stack_varnish:6080
CREATED:20260307T013201Z
LAST-MODIFIED:20260307T013210Z
URL:https://www.marlettelibrary.org/news-events/calendar/closed-for-thanks
 giving/2031-11-27
END:VEVENT
END:VCALENDAR
