BEGIN:VCALENDAR
VERSION:2.0
PRODID:-//Plone.org//NONSGML plone.app.event//EN
X-WR-TIMEZONE:US/Eastern
BEGIN:VEVENT
SUMMARY:Closed for Thanksgiving!
DTSTART;VALUE=DATE:20261128
DTEND;VALUE=DATE:20261129
DTSTAMP:20260423T140539Z
UID:85e3d49e42cd405ea856c858746fd32f@saas_stack_varnish:6080
RRULE:FREQ=YEARLY;COUNT=7;BYDAY=+4SA;BYMONTH=11
CREATED:20260307T014020Z
LAST-MODIFIED:20260307T014028Z
URL:https://www.marlettelibrary.org/news-events/calendar/closed-for-thanks
 giving-2
END:VEVENT
END:VCALENDAR
