BEGIN:VCALENDAR
VERSION:2.0
PRODID:-//Plone.org//NONSGML plone.app.event//EN
X-WR-TIMEZONE:US/Eastern
BEGIN:VEVENT
SUMMARY:Closed for Thanksgiving!
DTSTART;VALUE=DATE:20271126
DTEND;VALUE=DATE:20271127
DTSTAMP:20260423T103637Z
UID:d11f2082532e492fa1244a5e352cd291@saas_stack_varnish:6080
CREATED:20260307T013751Z
LAST-MODIFIED:20260307T015935Z
URL:https://www.marlettelibrary.org/news-events/calendar/closed-for-thanks
 giving-1/2027-11-26
END:VEVENT
END:VCALENDAR
