BEGIN:VCALENDAR
VERSION:2.0
PRODID:-//Plone.org//NONSGML plone.app.event//EN
X-WR-TIMEZONE:US/Eastern
BEGIN:VEVENT
SUMMARY:Closed for New Years Day!
DTSTART;VALUE=DATE:20290101
DTEND;VALUE=DATE:20290102
DTSTAMP:20260423T103644Z
UID:8f578f01873349ea8089b1ea54dc6cd1@saas_stack_varnish:6080
CREATED:20260307T015103Z
LAST-MODIFIED:20260307T015111Z
URL:https://www.marlettelibrary.org/news-events/calendar/closed-for-new-ye
 ars-day/2029-01-01
END:VEVENT
END:VCALENDAR
