BEGIN:VCALENDAR
VERSION:2.0
PRODID:-//Plone.org//NONSGML plone.app.event//EN
X-WR-TIMEZONE:US/Eastern
BEGIN:VEVENT
SUMMARY:Closed for Labor Day!
DTSTART;VALUE=DATE:20260907
DTEND;VALUE=DATE:20260908
DTSTAMP:20260423T120707Z
UID:24ddade6758449bfbaacd81b63292691@saas_stack_varnish:6080
RRULE:FREQ=YEARLY;COUNT=7;BYDAY=+1MO;BYMONTH=9
CREATED:20260307T012501Z
LAST-MODIFIED:20260307T015811Z
URL:https://www.marlettelibrary.org/news-events/calendar/closed-for-memori
 al-day
END:VEVENT
END:VCALENDAR
