BEGIN:VCALENDAR
VERSION:2.0
PRODID:-//Plone.org//NONSGML plone.app.event//EN
X-WR-TIMEZONE:US/Eastern
BEGIN:VEVENT
SUMMARY:Closed for Memorial Day!
DTSTART;VALUE=DATE:20280527
DTEND;VALUE=DATE:20280528
DTSTAMP:20260423T084619Z
UID:a162f55712e14c06a89b66245fd94da7@saas_stack_varnish:6080
CREATED:20260307T010417Z
LAST-MODIFIED:20260307T022338Z
URL:https://www.marlettelibrary.org/news-events/calendar/closed-for-labor-
 day/2028-05-27
END:VEVENT
END:VCALENDAR
