BEGIN:VCALENDAR
VERSION:2.0
PRODID:-//Plone.org//NONSGML plone.app.event//EN
X-WR-TIMEZONE:US/Eastern
BEGIN:VEVENT
SUMMARY:Closed for Labor Day!
DTSTART;VALUE=DATE:20260905
DTEND;VALUE=DATE:20260906
DTSTAMP:20260423T121139Z
UID:8393a9d15bb04709b184b448476f4355@saas_stack_varnish:6080
RRULE:FREQ=YEARLY;COUNT=7;BYDAY=+1SA;BYMONTH=9
EXDATE;TZID=US/Eastern:20300907T000000,20310906T000000
CREATED:20260307T012843Z
LAST-MODIFIED:20260307T015840Z
URL:https://www.marlettelibrary.org/news-events/calendar/closed-for-labor-
 day-2
END:VEVENT
END:VCALENDAR
