BEGIN:VCALENDAR
VERSION:2.0
PRODID:-//Plone.org//NONSGML plone.app.event//EN
X-WR-TIMEZONE:US/Eastern
BEGIN:VEVENT
SUMMARY:Closed for Labor Day!
DTSTART;VALUE=DATE:20270904
DTEND;VALUE=DATE:20270905
DTSTAMP:20260423T103434Z
UID:8393a9d15bb04709b184b448476f4355@saas_stack_varnish:6080
CREATED:20260307T012843Z
LAST-MODIFIED:20260307T015840Z
URL:https://www.marlettelibrary.org/news-events/calendar/closed-for-labor-
 day-2/2027-09-04
END:VEVENT
END:VCALENDAR
