BEGIN:VCALENDAR
VERSION:2.0
PRODID:-//Plone.org//NONSGML plone.app.event//EN
X-WR-TIMEZONE:US/Eastern
BEGIN:VEVENT
SUMMARY:Closed for Memorial Day!
DTSTART;VALUE=DATE:20260525
DTEND;VALUE=DATE:20260526
DTSTAMP:20260423T084833Z
UID:026465c8ba964f578cd32a32bbd41ea2@saas_stack_varnish:6080
RRULE:FREQ=YEARLY;COUNT=7;BYDAY=-1MO;BYMONTH=5
CREATED:20260307T010603Z
LAST-MODIFIED:20260307T022402Z
URL:https://www.marlettelibrary.org/news-events/calendar/closed-for-labor-
 day-1
END:VEVENT
END:VCALENDAR
