BEGIN:VCALENDAR
VERSION:2.0
PRODID:-//Plone.org//NONSGML plone.app.event//EN
X-WR-TIMEZONE:US/Eastern
BEGIN:VEVENT
SUMMARY:Closed for Independence Day!
DTSTART;VALUE=DATE:20260704
DTEND;VALUE=DATE:20260705
DTSTAMP:20260423T120534Z
UID:9ebfe7a4fae24d90a6103802692937e4@saas_stack_varnish:6080
RRULE:FREQ=YEARLY;COUNT=7;BYMONTHDAY=4;BYMONTH=7
EXDATE;TZID=US/Eastern:20270704T000000,20320704T000000
CREATED:20260307T011436Z
LAST-MODIFIED:20260307T015710Z
URL:https://www.marlettelibrary.org/news-events/calendar/closed-for-indepe
 ndence-day
END:VEVENT
END:VCALENDAR
