BEGIN:VCALENDAR
VERSION:2.0
PRODID:-//Plone.org//NONSGML plone.app.event//EN
X-WR-TIMEZONE:US/Eastern
BEGIN:VEVENT
SUMMARY:Closed for Independence Day!
DTSTART;VALUE=DATE:20280704
DTEND;VALUE=DATE:20280705
DTSTAMP:20260423T103147Z
UID:9ebfe7a4fae24d90a6103802692937e4@saas_stack_varnish:6080
CREATED:20260307T011436Z
LAST-MODIFIED:20260307T015710Z
URL:https://www.marlettelibrary.org/news-events/calendar/closed-for-indepe
 ndence-day/2028-07-04
END:VEVENT
END:VCALENDAR
