BEGIN:VCALENDAR
VERSION:2.0
PRODID:-//Plone.org//NONSGML plone.app.event//EN
X-WR-TIMEZONE:US/Eastern
BEGIN:VEVENT
SUMMARY:Closed for Independence Day!
DTSTART;VALUE=DATE:20260703
DTEND;VALUE=DATE:20260704
DTSTAMP:20260423T064714Z
UID:b377d59e0d83415eacfb3a680b4d164e@saas_stack_varnish:6080
RRULE:FREQ=YEARLY;COUNT=7;BYMONTHDAY=3;BYMONTH=7
EXDATE;TZID=US/Eastern:20290703T000000,20300703T000000,20310703T000000
CREATED:20260307T012237Z
LAST-MODIFIED:20260307T015742Z
URL:https://www.marlettelibrary.org/news-events/calendar/closed-for-indepe
 ndence-day-1
END:VEVENT
END:VCALENDAR
