BEGIN:VCALENDAR
VERSION:2.0
PRODID:-//Plone.org//NONSGML plone.app.event//EN
X-WR-TIMEZONE:US/Eastern
BEGIN:VEVENT
SUMMARY:Closed for Independence Day!
DTSTART;VALUE=DATE:20280703
DTEND;VALUE=DATE:20280704
DTSTAMP:20260423T103511Z
UID:b377d59e0d83415eacfb3a680b4d164e@saas_stack_varnish:6080
CREATED:20260307T012237Z
LAST-MODIFIED:20260307T015742Z
URL:https://www.marlettelibrary.org/news-events/calendar/closed-for-indepe
 ndence-day-1/2028-07-03
END:VEVENT
END:VCALENDAR
