BEGIN:VCALENDAR
VERSION:2.0
PRODID:-//Plone.org//NONSGML plone.app.event//EN
X-WR-TIMEZONE:US/Eastern
BEGIN:VEVENT
SUMMARY:Closed for Easter Weekend!
DTSTART;VALUE=DATE:20260403
DTEND;VALUE=DATE:20260404
DTSTAMP:20260421T122035Z
UID:9e92bac3a39d486d9207e774875e1534@saas_stack_varnish:6080
CREATED:20260307T010006Z
LAST-MODIFIED:20260307T022243Z
URL:https://www.marlettelibrary.org/news-events/calendar/closed-for-easter
 -weekend
END:VEVENT
END:VCALENDAR
