BEGIN:VCALENDAR
VERSION:2.0
PRODID:-//Plone.org//NONSGML plone.app.event//EN
X-WR-TIMEZONE:US/Eastern
BEGIN:VEVENT
SUMMARY:Closed for Christmas!
DTSTART;VALUE=DATE:20261225
DTEND;VALUE=DATE:20261226
DTSTAMP:20260423T121138Z
UID:5645ac7898994d55919912485df01b75@saas_stack_varnish:6080
RRULE:FREQ=YEARLY;COUNT=7;BYMONTHDAY=25;BYMONTH=12
CREATED:20260307T014457Z
LAST-MODIFIED:20260307T020039Z
URL:https://www.marlettelibrary.org/news-events/calendar/closed-for-christ
 mas
END:VEVENT
END:VCALENDAR
