BEGIN:VCALENDAR
VERSION:2.0
PRODID:-//Plone.org//NONSGML plone.app.event//EN
X-WR-TIMEZONE:US/Eastern
BEGIN:VEVENT
SUMMARY:Closed for Christmas Eve!
DTSTART;VALUE=DATE:20271224
DTEND;VALUE=DATE:20271225
DTSTAMP:20260423T103848Z
UID:6a92ded99c3e4d6f92c377e755d7f824@saas_stack_varnish:6080
CREATED:20260307T014318Z
LAST-MODIFIED:20260307T014326Z
URL:https://www.marlettelibrary.org/news-events/calendar/closed-for-christ
 mas-eve/2027-12-24
END:VEVENT
END:VCALENDAR
