BEGIN:VCALENDAR
VERSION:2.0
PRODID:-//Plone.org//NONSGML plone.app.event//EN
X-WR-TIMEZONE:US/Eastern
BEGIN:VEVENT
SUMMARY:Closed for Christmas!
DTSTART;VALUE=DATE:20261226
DTEND;VALUE=DATE:20261227
DTSTAMP:20260423T140147Z
UID:36a9d9068a69431eac2655f3d50377c4@saas_stack_varnish:6080
RRULE:FREQ=YEARLY;COUNT=7;BYMONTHDAY=26;BYMONTH=12
EXDATE;TZID=US/Eastern:20271226T000000,20321226T000000
CREATED:20260307T014727Z
LAST-MODIFIED:20260307T014735Z
URL:https://www.marlettelibrary.org/news-events/calendar/closed-for-christ
 mas-1
END:VEVENT
END:VCALENDAR
