BEGIN:VCALENDAR
VERSION:2.0
PRODID:-//Plone.org//NONSGML plone.app.event//EN
X-WR-TIMEZONE:US/Eastern
BEGIN:VEVENT
SUMMARY:Closed for Christmas!
DTSTART;VALUE=DATE:20281226
DTEND;VALUE=DATE:20281227
DTSTAMP:20260423T103644Z
UID:36a9d9068a69431eac2655f3d50377c4@saas_stack_varnish:6080
CREATED:20260307T014727Z
LAST-MODIFIED:20260307T014735Z
URL:https://www.marlettelibrary.org/news-events/calendar/closed-for-christ
 mas-1/2028-12-26
END:VEVENT
END:VCALENDAR
