BEGIN:VCALENDAR
VERSION:2.0
PRODID:-//Plone.org//NONSGML plone.app.event//EN
X-WR-TIMEZONE:US/Eastern
BEGIN:VEVENT
SUMMARY:Adult Winter Reading Challenge Begins!
DTSTART;VALUE=DATE:20260112
DTEND;VALUE=DATE:20260113
DTSTAMP:20260421T141219Z
UID:8edd5bac3ff247499273c4909e4a9b23@saas_stack_varnish:6080
CONTACT:https://www.marlettelibrary.org/news-events/adult-winter-reading-c
 hallenge
CREATED:20260306T235829Z
LAST-MODIFIED:20260307T000356Z
URL:https://www.marlettelibrary.org/news-events/calendar/adult-winter-read
 ing-challenge
END:VEVENT
END:VCALENDAR
