BEGIN:VCALENDAR
VERSION:2.0
PRODID:-//Plone.org//NONSGML plone.app.event//EN
X-WR-TIMEZONE:US/Eastern
BEGIN:VEVENT
SUMMARY:Fourth of July
DTSTART;VALUE=DATE:20220704
DTEND;VALUE=DATE:20220705
DTSTAMP:20260421T140850Z
UID:892e826564194f2aa7ea1fd44b2c124f@saas_stack_varnish:6080
CATEGORIES:closed
CREATED:20200114T194310Z
DESCRIPTION:We are closed
LAST-MODIFIED:20220712T153850Z
URL:https://www.marlettelibrary.org/enfold-test-folder/ek-test-folder-even
 ts/2020/fourth-of-july
END:VEVENT
END:VCALENDAR
