BEGIN:VCALENDAR
VERSION:2.0
PRODID:-//Plone.org//NONSGML plone.app.event//EN
X-WR-TIMEZONE:US/Eastern
BEGIN:VEVENT
SUMMARY:4-H Program Homeschool Group
DTSTART;TZID=US/Eastern:20260427T103000
DTEND;TZID=US/Eastern:20260427T113000
DTSTAMP:20260423T044914Z
UID:df7af125b9974a90b7f427e4f195cdc0@saas_stack_varnish:6080
RRULE:FREQ=WEEKLY;UNTIL=20270525T000000;BYDAY=MO
EXDATE;TZID=US/Eastern:20260525T000000,20260601T000000,20260601T000000,202
 60608T000000,20260608T000000,20260615T000000,20260615T000000,20260622T0000
 00,20260622T000000,20260629T000000,20260706T000000,20260706T000000,2026071
 3T000000,20260713T000000,20260720T000000,20260720T000000,20260727T000000,2
 0260727T000000,20260803T000000,20260803T000000,20260810T000000,20260810T00
 0000,20260817T000000,20260817T000000,20260824T000000,20260824T000000,20260
 831T000000,20260831T000000,20260907T000000,20260907T000000,20260914T000000
 ,20260914T000000,20260921T000000,20260921T000000,20260928T000000,20260928T
 000000
CREATED:20260309T150636Z
LAST-MODIFIED:20260309T160224Z
URL:https://www.marlettelibrary.org/news-events/calendar/4-h-program-homes
 chool-group
END:VEVENT
BEGIN:VEVENT
SUMMARY:StoryTIME
DTSTART;TZID=US/Eastern:20260505T101500
DTEND;TZID=US/Eastern:20260505T110000
DTSTAMP:20260423T044914Z
UID:4994a75bc1eb4f2fa85c3c26428e0d5a@saas_stack_varnish:6080
RRULE:FREQ=MONTHLY;UNTIL=20270105T000000;BYDAY=+1TU
EXDATE;TZID=US/Eastern:20260707T000000
CREATED:20260306T235407Z
LAST-MODIFIED:20260307T003210Z
URL:https://www.marlettelibrary.org/news-events/calendar/storytime
END:VEVENT
BEGIN:VEVENT
SUMMARY:Closed for Memorial Day!
DTSTART;VALUE=DATE:20260523
DTEND;VALUE=DATE:20260524
DTSTAMP:20260423T044914Z
UID:a162f55712e14c06a89b66245fd94da7@saas_stack_varnish:6080
RRULE:FREQ=YEARLY;COUNT=7;BYDAY=+4SA;BYMONTH=5
EXDATE;TZID=US/Eastern:20270522T000000,20320522T000000
CREATED:20260307T010417Z
LAST-MODIFIED:20260307T022338Z
URL:https://www.marlettelibrary.org/news-events/calendar/closed-for-labor-
 day
END:VEVENT
BEGIN:VEVENT
SUMMARY:Closed for Memorial Day!
DTSTART;VALUE=DATE:20260525
DTEND;VALUE=DATE:20260526
DTSTAMP:20260423T044914Z
UID:026465c8ba964f578cd32a32bbd41ea2@saas_stack_varnish:6080
RRULE:FREQ=YEARLY;COUNT=7;BYDAY=-1MO;BYMONTH=5
CREATED:20260307T010603Z
LAST-MODIFIED:20260307T022402Z
URL:https://www.marlettelibrary.org/news-events/calendar/closed-for-labor-
 day-1
END:VEVENT
BEGIN:VEVENT
SUMMARY:Begins: Summer Reading 2026
DTSTART;VALUE=DATE:20260605
DTEND;VALUE=DATE:20260606
DTSTAMP:20260423T044914Z
UID:6a9cdcc5585c4a4c9d653da98096f191@saas_stack_varnish:6080
CONTACT:https://www.marlettelibrary.org/news-events/summer-reading
CREATED:20260307T001137Z
LAST-MODIFIED:20260307T001928Z
URL:https://www.marlettelibrary.org/news-events/calendar/begins-summer-rea
 ding-2026
END:VEVENT
BEGIN:VEVENT
SUMMARY:Closed for Independence Day!
DTSTART;VALUE=DATE:20260703
DTEND;VALUE=DATE:20260704
DTSTAMP:20260423T044914Z
UID:b377d59e0d83415eacfb3a680b4d164e@saas_stack_varnish:6080
RRULE:FREQ=YEARLY;COUNT=7;BYMONTHDAY=3;BYMONTH=7
EXDATE;TZID=US/Eastern:20290703T000000,20300703T000000,20310703T000000
CREATED:20260307T012237Z
LAST-MODIFIED:20260307T015742Z
URL:https://www.marlettelibrary.org/news-events/calendar/closed-for-indepe
 ndence-day-1
END:VEVENT
BEGIN:VEVENT
SUMMARY:Closed for Independence Day!
DTSTART;VALUE=DATE:20260704
DTEND;VALUE=DATE:20260705
DTSTAMP:20260423T044914Z
UID:9ebfe7a4fae24d90a6103802692937e4@saas_stack_varnish:6080
RRULE:FREQ=YEARLY;COUNT=7;BYMONTHDAY=4;BYMONTH=7
EXDATE;TZID=US/Eastern:20270704T000000,20320704T000000
CREATED:20260307T011436Z
LAST-MODIFIED:20260307T015710Z
URL:https://www.marlettelibrary.org/news-events/calendar/closed-for-indepe
 ndence-day
END:VEVENT
BEGIN:VEVENT
SUMMARY:End: Summer Reading 2026
DTSTART;VALUE=DATE:20260717
DTEND;VALUE=DATE:20260718
DTSTAMP:20260423T044915Z
UID:809b2226199e483bae9687147dac0c6d@saas_stack_varnish:6080
CONTACT:https://www.marlettelibrary.org/news-events/summer-reading
CREATED:20260307T001504Z
LAST-MODIFIED:20260307T002306Z
URL:https://www.marlettelibrary.org/news-events/calendar/end-summer-readin
 g-2026
END:VEVENT
BEGIN:VEVENT
SUMMARY:Closed for Labor Day!
DTSTART;VALUE=DATE:20260905
DTEND;VALUE=DATE:20260906
DTSTAMP:20260423T044915Z
UID:8393a9d15bb04709b184b448476f4355@saas_stack_varnish:6080
RRULE:FREQ=YEARLY;COUNT=7;BYDAY=+1SA;BYMONTH=9
EXDATE;TZID=US/Eastern:20300907T000000,20310906T000000
CREATED:20260307T012843Z
LAST-MODIFIED:20260307T015840Z
URL:https://www.marlettelibrary.org/news-events/calendar/closed-for-labor-
 day-2
END:VEVENT
BEGIN:VEVENT
SUMMARY:Closed for Labor Day!
DTSTART;VALUE=DATE:20260907
DTEND;VALUE=DATE:20260908
DTSTAMP:20260423T044915Z
UID:24ddade6758449bfbaacd81b63292691@saas_stack_varnish:6080
RRULE:FREQ=YEARLY;COUNT=7;BYDAY=+1MO;BYMONTH=9
CREATED:20260307T012501Z
LAST-MODIFIED:20260307T015811Z
URL:https://www.marlettelibrary.org/news-events/calendar/closed-for-memori
 al-day
END:VEVENT
BEGIN:VEVENT
SUMMARY:Book Sale
DTSTART;TZID=US/Eastern:20260919T100000
DTEND;TZID=US/Eastern:20260919T150000
DTSTAMP:20260423T044915Z
UID:c355e9e61ddd40fbb360c29061b19946@saas_stack_varnish:6080
CREATED:20260306T234946Z
LAST-MODIFIED:20260307T002043Z
LOCATION:Marlette District Library Basement
URL:https://www.marlettelibrary.org/news-events/calendar/book-sale
END:VEVENT
BEGIN:VEVENT
SUMMARY:Book Sale
DTSTART;VALUE=DATE:20260921
DTEND;VALUE=DATE:20260926
DTSTAMP:20260423T044915Z
UID:0b3d5e0b6f1743b6944a094f8a2a2dbf@saas_stack_varnish:6080
CREATED:20260307T002150Z
LAST-MODIFIED:20260307T002159Z
URL:https://www.marlettelibrary.org/news-events/calendar/book-sale-1
END:VEVENT
BEGIN:VEVENT
SUMMARY:Thanksgiving Holiday Hours!
DTSTART;TZID=US/Eastern:20261125T090000
DTEND;TZID=US/Eastern:20261125T130000
DTSTAMP:20260423T044915Z
UID:3b56088304d8450bb451b90d7b820a8c@saas_stack_varnish:6080
RRULE:FREQ=YEARLY;COUNT=7;BYDAY=+4WE;BYMONTH=11
CREATED:20260307T013519Z
LAST-MODIFIED:20260307T013626Z
URL:https://www.marlettelibrary.org/news-events/calendar/thanksgiving-holi
 day-hours
END:VEVENT
BEGIN:VEVENT
SUMMARY:Closed For Thanksgiving!
DTSTART;VALUE=DATE:20261126
DTEND;VALUE=DATE:20261127
DTSTAMP:20260423T044915Z
UID:6e31b643737d4aaeb78659a54451b21b@saas_stack_varnish:6080
RRULE:FREQ=YEARLY;COUNT=7;BYDAY=+4TH;BYMONTH=11
CREATED:20260307T013201Z
LAST-MODIFIED:20260307T013210Z
URL:https://www.marlettelibrary.org/news-events/calendar/closed-for-thanks
 giving
END:VEVENT
BEGIN:VEVENT
SUMMARY:Closed for Thanksgiving!
DTSTART;VALUE=DATE:20261127
DTEND;VALUE=DATE:20261128
DTSTAMP:20260423T044915Z
UID:d11f2082532e492fa1244a5e352cd291@saas_stack_varnish:6080
RRULE:FREQ=YEARLY;COUNT=7;BYDAY=+4FR;BYMONTH=11
CREATED:20260307T013751Z
LAST-MODIFIED:20260307T015935Z
URL:https://www.marlettelibrary.org/news-events/calendar/closed-for-thanks
 giving-1
END:VEVENT
BEGIN:VEVENT
SUMMARY:Closed for Thanksgiving!
DTSTART;VALUE=DATE:20261128
DTEND;VALUE=DATE:20261129
DTSTAMP:20260423T044915Z
UID:85e3d49e42cd405ea856c858746fd32f@saas_stack_varnish:6080
RRULE:FREQ=YEARLY;COUNT=7;BYDAY=+4SA;BYMONTH=11
CREATED:20260307T014020Z
LAST-MODIFIED:20260307T014028Z
URL:https://www.marlettelibrary.org/news-events/calendar/closed-for-thanks
 giving-2
END:VEVENT
BEGIN:VEVENT
SUMMARY:Closed for Christmas Eve!
DTSTART;VALUE=DATE:20261224
DTEND;VALUE=DATE:20261225
DTSTAMP:20260423T044915Z
UID:6a92ded99c3e4d6f92c377e755d7f824@saas_stack_varnish:6080
RRULE:FREQ=YEARLY;COUNT=7;BYMONTHDAY=24;BYMONTH=12
EXDATE;TZID=US/Eastern:20281224T000000
CREATED:20260307T014318Z
LAST-MODIFIED:20260307T014326Z
URL:https://www.marlettelibrary.org/news-events/calendar/closed-for-christ
 mas-eve
END:VEVENT
BEGIN:VEVENT
SUMMARY:Closed for Christmas!
DTSTART;VALUE=DATE:20261225
DTEND;VALUE=DATE:20261226
DTSTAMP:20260423T044915Z
UID:5645ac7898994d55919912485df01b75@saas_stack_varnish:6080
RRULE:FREQ=YEARLY;COUNT=7;BYMONTHDAY=25;BYMONTH=12
CREATED:20260307T014457Z
LAST-MODIFIED:20260307T020039Z
URL:https://www.marlettelibrary.org/news-events/calendar/closed-for-christ
 mas
END:VEVENT
BEGIN:VEVENT
SUMMARY:Closed for Christmas!
DTSTART;VALUE=DATE:20261226
DTEND;VALUE=DATE:20261227
DTSTAMP:20260423T044915Z
UID:36a9d9068a69431eac2655f3d50377c4@saas_stack_varnish:6080
RRULE:FREQ=YEARLY;COUNT=7;BYMONTHDAY=26;BYMONTH=12
EXDATE;TZID=US/Eastern:20271226T000000,20321226T000000
CREATED:20260307T014727Z
LAST-MODIFIED:20260307T014735Z
URL:https://www.marlettelibrary.org/news-events/calendar/closed-for-christ
 mas-1
END:VEVENT
BEGIN:VEVENT
SUMMARY:Closed New Years Eve!
DTSTART;VALUE=DATE:20261231
DTEND;VALUE=DATE:20270101
DTSTAMP:20260423T044915Z
UID:9d90a9b4bdd54d1db571f0cc06b279e4@saas_stack_varnish:6080
RRULE:FREQ=YEARLY;COUNT=7;BYMONTHDAY=31;BYMONTH=12
CREATED:20260307T005826Z
LAST-MODIFIED:20260307T022218Z
URL:https://www.marlettelibrary.org/news-events/calendar/closed-new-years-
 eve
END:VEVENT
BEGIN:VEVENT
SUMMARY:Closed for New Years Day!
DTSTART;VALUE=DATE:20270101
DTEND;VALUE=DATE:20270102
DTSTAMP:20260423T044915Z
UID:8f578f01873349ea8089b1ea54dc6cd1@saas_stack_varnish:6080
RRULE:FREQ=YEARLY;COUNT=7;BYMONTHDAY=1;BYMONTH=1
CREATED:20260307T015103Z
LAST-MODIFIED:20260307T015111Z
URL:https://www.marlettelibrary.org/news-events/calendar/closed-for-new-ye
 ars-day
END:VEVENT
BEGIN:VEVENT
SUMMARY:Closed for New Years!
DTSTART;VALUE=DATE:20270102
DTEND;VALUE=DATE:20270103
DTSTAMP:20260423T044915Z
UID:415843ad0c3748daa920326105b75038@saas_stack_varnish:6080
RRULE:FREQ=YEARLY;COUNT=7;BYMONTHDAY=2;BYMONTH=1
EXDATE;TZID=US/Eastern:20280102T000000,20290102T000000,20300102T000000,203
 10102T000000,20320102T000000
CREATED:20260307T015324Z
LAST-MODIFIED:20260307T020537Z
URL:https://www.marlettelibrary.org/news-events/calendar/closed-for-new-ye
 ars
END:VEVENT
BEGIN:VTIMEZONE
TZID:US/Eastern
X-LIC-LOCATION:US/Eastern
BEGIN:DAYLIGHT
DTSTART:20260308T030000
TZNAME:EDT
TZOFFSETFROM:-0500
TZOFFSETTO:-0400
END:DAYLIGHT
BEGIN:STANDARD
DTSTART:20261101T010000
TZNAME:EST
TZOFFSETFROM:-0400
TZOFFSETTO:-0500
END:STANDARD
END:VTIMEZONE
END:VCALENDAR
